BEGIN:VCALENDAR
VERSION:2.0
PRODID:-//The DESK - The leading source of information for bond traders - ECPv6.10.1.1//NONSGML v1.0//EN
CALSCALE:GREGORIAN
METHOD:PUBLISH
X-WR-CALNAME:The DESK - The leading source of information for bond traders
X-ORIGINAL-URL:https://www.dev.fi-desk.com
X-WR-CALDESC:Events for The DESK - The leading source of information for bond traders
REFRESH-INTERVAL;VALUE=DURATION:PT1H
X-Robots-Tag:noindex
X-PUBLISHED-TTL:PT1H
BEGIN:VTIMEZONE
TZID:Europe/London
BEGIN:DAYLIGHT
TZOFFSETFROM:+0000
TZOFFSETTO:+0100
TZNAME:BST
DTSTART:20250330T010000
END:DAYLIGHT
BEGIN:STANDARD
TZOFFSETFROM:+0100
TZOFFSETTO:+0000
TZNAME:GMT
DTSTART:20251026T010000
END:STANDARD
END:VTIMEZONE
BEGIN:VEVENT
DTSTART;TZID=Europe/London:20250513T080000
DTEND;TZID=Europe/London:20250515T170000
DTSTAMP:20260421T175955
CREATED:20241128T154903Z
LAST-MODIFIED:20241128T155023Z
UID:19792-1747123200-1747328400@www.dev.fi-desk.com
SUMMARY:TradeTech 2025
DESCRIPTION:Your only opportunity to connect with leading buy side decision makers and the entire European equity ecosystem across three days.\nThe European equity market has seen a steady decline in IPO’s and trading volumes in recent years\, with the UK accounting for 5% of global IPO’s\, whilst the US claims 40%. Market participants\, regulators and policy makers must collaborate to push forward a growth agenda that will enable European capital markets to flourish.Meanwhile\, the promise of AI continues to grow- with buy side firms weighing up the cost vs value and the implications of being left behind.Find out how to navigate the evolving liquidity and technology landscape by joining the largest gathering of buy side heads of equity trading and major market participants across the entire ecosystem.Join TradeTech and gain practical insights on: \n\n\nReinvigorating the UK and EU stock market: Hear what participants\, regulators and policymakers are doing to drive market reforms \n\n\nNavigating changing regulation: Get the latest updates on regulatory reforms and how they will impact your firm \n\n\nExamining liquidity dynamics: Understand how the European liquidity landscape is evolving to stay abreast of new opportunities \n\n\nLeveraging new technology: Evaluate the latest technology and data capabilities that are making waves in the equity trading marketplace \n\n\nAgenda: https://tinyurl.com/25xsdjes\nPricing: https://tinyurl.com/bx2npf7a\nDiscount Code: TTTD\n\n\n\n\n \n\n\n\n\n 
URL:https://www.dev.fi-desk.com/event/tradetech-2025/
LOCATION:Palais Des Congrès De Paris\, 2 Place de la Porte Maillot\, Paris\, F-75017\, France
ATTACH;FMTTYPE=image/jpeg:https://www.dev.fi-desk.com/wp-content/uploads/2024/11/TT2025_Arc-de-Triomphe_1200x600.jpg
END:VEVENT
END:VCALENDAR