BEGIN:VCALENDAR
VERSION:2.0
PRODID:-//The DESK - The leading source of information for bond traders - ECPv6.10.1.1//NONSGML v1.0//EN
CALSCALE:GREGORIAN
METHOD:PUBLISH
X-WR-CALNAME:The DESK - The leading source of information for bond traders
X-ORIGINAL-URL:https://www.dev.fi-desk.com
X-WR-CALDESC:Events for The DESK - The leading source of information for bond traders
REFRESH-INTERVAL;VALUE=DURATION:PT1H
X-Robots-Tag:noindex
X-PUBLISHED-TTL:PT1H
BEGIN:VTIMEZONE
TZID:Europe/London
BEGIN:DAYLIGHT
TZOFFSETFROM:+0000
TZOFFSETTO:+0100
TZNAME:BST
DTSTART:20250330T010000
END:DAYLIGHT
BEGIN:STANDARD
TZOFFSETFROM:+0100
TZOFFSETTO:+0000
TZNAME:GMT
DTSTART:20251026T010000
END:STANDARD
END:VTIMEZONE
BEGIN:VEVENT
DTSTART;TZID=Europe/London:20250210T080000
DTEND;TZID=Europe/London:20250212T170000
DTSTAMP:20260423T104303
CREATED:20241128T165248Z
LAST-MODIFIED:20241128T165319Z
UID:19796-1739174400-1739379600@www.dev.fi-desk.com
SUMMARY:TradeTech FX USA 2025
DESCRIPTION:The Biggest Buy Side FX Conference\nTradeTech FX returns to Miami this February 2025 (10-12) taking place at the beautiful JW Marriot Marquis! TradeTech FX has firmly established itself as the leading buy side focused FX gathering in the US\, with over 700 FX professionals in attendance\, including representation from all the leading global buy side firms. \nCheck out the agenda here to see the full speaker line-up\, the hot topics being discussed\, and all the benefits you’ll gain from attending.\nTradeTech FX 2025: \n\nJoin 250+ senior FX buy side attendees made up of all the leading asset managers\, hedge funds\, pension funds\, wealth managers\, private banks  and corporates\nJoin buy side focused sessions led by 60+ buy side heads of FX trading and portfolio management speakers to gain practical insights on how you can adapt your execution and investment strategy to future-proof your FX desk\nGain unparalleled face-to-face networking with the entire FX trading community made up of 700+ attendees\, including all the major buy side\, sell side\, regulators and technology partners\nJoin the ‘Buy Side FX Innovation Day’ (Feb 10) for an unbeatable time-saving opportunity to meet and compare the leading FX platforms and solution providers\n\nAs a member you have an exclusive 10% discount off the price to attend (buy side attend free). Simply quote FXGLT10 when booking. \nAgenda: https://tradetechfxus.wbresearch.com/agenda \nTickets: https://tradetechfxus.wbresearch.com/pricing \n10% Discount Code: FXGLT10 \n\n 
URL:https://www.dev.fi-desk.com/event/tradetech-fx-usa-2025/
LOCATION:JW Marriott Marquis Miami\, 255 Biscayne Boulevard Way\, Miami\, FL\, 33131\, United States
ATTACH;FMTTYPE=image/jpeg:https://www.dev.fi-desk.com/wp-content/uploads/2024/11/TTFX-Banner-1200x600-px.jpg
END:VEVENT
END:VCALENDAR