BEGIN:VCALENDAR
VERSION:2.0
PRODID:-//The DESK - The leading source of information for bond traders - ECPv6.10.1.1//NONSGML v1.0//EN
CALSCALE:GREGORIAN
METHOD:PUBLISH
X-WR-CALNAME:The DESK - The leading source of information for bond traders
X-ORIGINAL-URL:https://www.dev.fi-desk.com
X-WR-CALDESC:Events for The DESK - The leading source of information for bond traders
REFRESH-INTERVAL;VALUE=DURATION:PT1H
X-Robots-Tag:noindex
X-PUBLISHED-TTL:PT1H
BEGIN:VTIMEZONE
TZID:Europe/Berlin
BEGIN:DAYLIGHT
TZOFFSETFROM:+0100
TZOFFSETTO:+0200
TZNAME:CEST
DTSTART:20250330T010000
END:DAYLIGHT
BEGIN:STANDARD
TZOFFSETFROM:+0200
TZOFFSETTO:+0100
TZNAME:CET
DTSTART:20251026T010000
END:STANDARD
END:VTIMEZONE
BEGIN:VEVENT
DTSTART;TZID=Europe/Berlin:20250604T080000
DTEND;TZID=Europe/Berlin:20250606T170000
DTSTAMP:20260421T145733
CREATED:20240812T114337Z
LAST-MODIFIED:20250227T165319Z
UID:18386-1749024000-1749229200@www.dev.fi-desk.com
SUMMARY:ICMA’s Annual General Meeting & Conference 2025
DESCRIPTION:We are pleased to announce that the 57th edition of ICMA’s Annual General Meeting & Conference will be held on June 4 to 6\, 2025 in Frankfurt.\nWe are also excited to announce this year’s event will take on a new format with the AGM now taking place on Wednesday afternoon\, June 4 before the Welcome Reception. This will allow us to dedicate a full day and half to the conference proceedings on Thursday\, June 5 and Friday\, June 6 with more targeted workshops and networking sessions. \nWe look forward to building on the success of last year’s AGM in Brussels\, which attracted 1\,200 senior public sector officials\, bankers\, investors\, market infrastructure providers and lawyers active in the cross-border bond markets\, representing 330 institutions from 46 countries\, along with academics and journalists. \nMeet the international capital market in Frankfurt at the 2025 ICMA AGM and Conference. \nFor speaking enquiries\, please contact Managing Director\, Membership & Communications\, Allan Malvar. \n\n 
URL:https://www.dev.fi-desk.com/event/icmas-annual-general-meeting-conference-2025/
LOCATION:Kap Europa Messe Frankfurt\, Kap Europa Messe Frankfurt\, Osloer Str. 5\, Frankfurt am Main\, D-60327\, Germany
ATTACH;FMTTYPE=image/jpeg:https://www.dev.fi-desk.com/wp-content/uploads/2024/08/ICMA-AGM-2025-1200x600-1.jpg
END:VEVENT
END:VCALENDAR