BEGIN:VCALENDAR
VERSION:2.0
PRODID:-//The DESK - The leading source of information for bond traders - ECPv6.10.1.1//NONSGML v1.0//EN
CALSCALE:GREGORIAN
METHOD:PUBLISH
X-ORIGINAL-URL:https://www.dev.fi-desk.com
X-WR-CALDESC:Events for The DESK - The leading source of information for bond traders
REFRESH-INTERVAL;VALUE=DURATION:PT1H
X-Robots-Tag:noindex
X-PUBLISHED-TTL:PT1H
BEGIN:VTIMEZONE
TZID:Europe/London
BEGIN:DAYLIGHT
TZOFFSETFROM:+0000
TZOFFSETTO:+0100
TZNAME:BST
DTSTART:20250330T010000
END:DAYLIGHT
BEGIN:STANDARD
TZOFFSETFROM:+0100
TZOFFSETTO:+0000
TZNAME:GMT
DTSTART:20251026T010000
END:STANDARD
END:VTIMEZONE
BEGIN:VEVENT
DTSTART;VALUE=DATE:20250403
DTEND;VALUE=DATE:20250404
DTSTAMP:20260421T143307
CREATED:20250116T133536Z
LAST-MODIFIED:20250116T133536Z
UID:20207-1743638400-1743724799@www.dev.fi-desk.com
SUMMARY:AFME's 16th Annual Spanish Capital Markets Conference
DESCRIPTION:AFME’s 16th Annual Spanish Capital Markets Conference\, is the annual meeting place for senior industry professionals\, regulators and policymakers active in Spanish capital markets. \nThe event content covers a wide range of fixed income (particularly securitisation) as well as other related topics such as equities\, ESG\, digital\, and prudential topics\, covering the Spanish\, EU and global markets. \nThe conference promotes stable\, competitive\, sustainable financial markets that support Spain’s economic growth and benefits society. \nWe aim to host a high-level constructive dialogue between our members\, key regulators\, and industry solutions providers to tackle the key challenges and discuss opportunities for growth in Spain. \nView AFME’s 2024 event highlights video here. \nRegular registration fees \nEarly Bird Expires on 15th January\nEarly Bird AFME member: €529 + VAT\nEarly Bird Non-member: €839 + VAT \nAFME member: €689 + VAT\nNon-member: €999 + VAT \nMulti-booking discount:\n• 10% off when booking 3 or more delegates at the same time\n• 20% off when booking 5 or more delegates at the same time \nMulti booking discounts can be applied at check out for group bookings. \nComplimentary subject to verification:\n• Investor: promo code INVESTOR\n• Regulator: promo code REGULATOR\n• Press: promo code PRESS \nEMAIL EVENTS@AFME.EU AND USE CODE TD15 FOR A 15% DISCOUNT \nNote: Promo codes are case sensitive\nRead AFME’s Press Policy here.
URL:https://www.dev.fi-desk.com/event/afmes-16th-annual-spanish-capital-markets-conference/
LOCATION:Wellington Hotel and Spa\, Madrid\, C. de Velázquez\, 8\, Madrid\, ES-28001\, Spain
ATTACH;FMTTYPE=image/jpeg:https://www.dev.fi-desk.com/wp-content/uploads/2025/01/AFME_spanishfunding2025_1000x500.jpg
END:VEVENT
END:VCALENDAR