BEGIN:VCALENDAR
VERSION:2.0
PRODID:-//The DESK - The leading source of information for bond traders - ECPv6.10.1.1//NONSGML v1.0//EN
CALSCALE:GREGORIAN
METHOD:PUBLISH
X-WR-CALNAME:The DESK - The leading source of information for bond traders
X-ORIGINAL-URL:https://www.dev.fi-desk.com
X-WR-CALDESC:Events for The DESK - The leading source of information for bond traders
REFRESH-INTERVAL;VALUE=DURATION:PT1H
X-Robots-Tag:noindex
X-PUBLISHED-TTL:PT1H
BEGIN:VTIMEZONE
TZID:Europe/Brussels
BEGIN:DAYLIGHT
TZOFFSETFROM:+0100
TZOFFSETTO:+0200
TZNAME:CEST
DTSTART:20240331T010000
END:DAYLIGHT
BEGIN:STANDARD
TZOFFSETFROM:+0200
TZOFFSETTO:+0100
TZNAME:CET
DTSTART:20241027T010000
END:STANDARD
TZID:Asia/Singapore
BEGIN:STANDARD
TZOFFSETFROM:+0800
TZOFFSETTO:+0800
TZNAME:+08
DTSTART:20240101T000000
END:STANDARD
TZID:Europe/Paris
BEGIN:DAYLIGHT
TZOFFSETFROM:+0100
TZOFFSETTO:+0200
TZNAME:CEST
DTSTART:20240331T010000
END:DAYLIGHT
BEGIN:STANDARD
TZOFFSETFROM:+0200
TZOFFSETTO:+0100
TZNAME:CET
DTSTART:20241027T010000
END:STANDARD
TZID:Europe/London
BEGIN:DAYLIGHT
TZOFFSETFROM:+0000
TZOFFSETTO:+0100
TZNAME:BST
DTSTART:20240331T010000
END:DAYLIGHT
BEGIN:STANDARD
TZOFFSETFROM:+0100
TZOFFSETTO:+0000
TZNAME:GMT
DTSTART:20241027T010000
END:STANDARD
END:VTIMEZONE
BEGIN:VEVENT
DTSTART;VALUE=DATE:20241113
DTEND;VALUE=DATE:20241114
DTSTAMP:20260424T055229
CREATED:20241101T152410Z
LAST-MODIFIED:20241101T152555Z
UID:19548-1731456000-1731542399@www.dev.fi-desk.com
SUMMARY:AFME’s 19th Annual European Government Bond Conference
DESCRIPTION:  \nAFME’s 19th Annual European Government Bond Conference\n13 November 2024\, Brussels \nLink: https://www.afme.eu/events/detail?eventid=9208ed16-39b5-ee11-a568-6045bdd0b0d6&utm_campaign=govbond2024&utm_source=bethedesk&utm_medium=partner \nWe are pleased to partner with AFME for their AFME’s 19th Annual European Government Bond Conference which will take place in Brussels on 13 November 2024. \nThis event will bring together industry leaders and experts to discuss the latest trends and developments in primary and secondary government bond markets. Don’t miss this opportunity to network and hear from the leaders in the industry. \nThis conference has become a firm fixture on the sovereign debt market community’s calendar and reflects the importance of ongoing dialogue and cooperation between policymakers\, regulators and the financial sector. \nRegister now   \n\n 
URL:https://www.dev.fi-desk.com/event/afmes-19th-annual-european-government-bond-conference/
LOCATION:BNP Paribas Fortis Auditorium\, BNP Paribas Fortis Auditorium 1 rue de la Chancellerie\, Brussels\, B-1000\, Belgium
ATTACH;FMTTYPE=image/jpeg:https://www.dev.fi-desk.com/wp-content/uploads/2024/11/AFME_GovtBond24_TD_1200x600.jpg
END:VEVENT
BEGIN:VEVENT
DTSTART;TZID=Asia/Singapore:20241115T080000
DTEND;TZID=Asia/Singapore:20241115T170000
DTSTAMP:20260424T055229
CREATED:20240816T112447Z
LAST-MODIFIED:20240816T112447Z
UID:18496-1731657600-1731690000@www.dev.fi-desk.com
SUMMARY:FIX Multi-Asset Trading Conference 2024
DESCRIPTION:The Singapore FIX Multi-Asset Trading Conference offers a deep dive into the latest trends across various asset classes including Equities\, FX\, Fixed Income\, ETFs and Digital Assets. \n \nFind out more: Singapore – FIX Multi-Asset Trading Conference 2024\n 
URL:https://www.dev.fi-desk.com/event/fix-multi-asset-trading-conference-2024/
LOCATION:Pacific Ballroom\, Pan Pacific Singapore\, 7 Raffles Blvd.\, Singapore\, 039595\, Singapore
ATTACH;FMTTYPE=image/jpeg:https://www.dev.fi-desk.com/wp-content/uploads/2024/08/Singapore-2024-Global-Trading-The-Desk-1000x500-1.jpg
END:VEVENT
BEGIN:VEVENT
DTSTART;TZID=Europe/Paris:20241121T080000
DTEND;TZID=Europe/Paris:20241121T170000
DTSTAMP:20260424T055229
CREATED:20240812T112719Z
LAST-MODIFIED:20240816T111716Z
UID:18371-1732176000-1732208400@www.dev.fi-desk.com
SUMMARY:FIX France Trading Conference
DESCRIPTION:Returning to Paris this year\, the FIX Trading Community invites you to attend the France Trading Conference. \n \nTaking place at the Étoile Business Center in Paris on Thursday 21st November\, this event will provide an unrivalled opportunity for industry representatives to participate in a forum surrounding the challenges and opportunities impacting electronic trading practices within the region. \nTopics to be covered: \n\n\nExploring the Evolution of Markets\nExamining the current market landscape in France and beyond\, this panel delves into challenges\, strategies and regulatory dynamics. Topics include the future of investing\, CMU\, EU-UK divergence\, and regulatory priorities.\n\n\n\n\nInnovation in Markets – New Solutions to Old Problems\nIndustry leaders discuss longstanding challenges\, practical insights\, and regulatory dynamics. Topics include: integrating smart routing logic\, ; assessing automation effectiveness\, ; and optimising trading decisions across asset classes.\n\n\n\n\nOptimising Data in Trading\nOur expert panel explores data strategies and ongoing challenges\, addressing automating processes\, front-end data processing\, integrating real-time data\, effective management techniques\, infrastructure requirements\, the Consolidated Tape and the evolving landscape of ESG data. \n\n\n\n\nNavigating the Settlement Cycle\nSix months into the US transition to T+1\, this panel will examine the evolving landscape in Europe and globally and will consider the challenges faced by market participants\, insights from ESMA’s upcoming report to the European Commission\, AFME task force findings and how workflows are adapting to the shortened settlement cycle.\n\n\n\n\nAI: Shaping the Future of Trading\nWhere does AI add value? This panel will explore the practical implications of AI in trading\, its potential to optimise decision-making and improve execution performance. Topics include understanding AI\, supporting trading\, overcoming implementation hurdles\, data quality and risk mitigation.\n\n\nFind out more: France Trading Conference 2024 \n\n 
URL:https://www.dev.fi-desk.com/event/fix-france-trading-conference/
LOCATION:Étoile Business Centre\, 21-25\, rue Balzac\, Paris\, F-75008\, France
ATTACH;FMTTYPE=image/jpeg:https://www.dev.fi-desk.com/wp-content/uploads/2024/08/France-2024-Global-Trading-The-Desk-1000x500-2.jpg
END:VEVENT
BEGIN:VEVENT
DTSTART;TZID=Europe/London:20241121T080000
DTEND;TZID=Europe/London:20241121T170000
DTSTAMP:20260424T055229
CREATED:20240812T113522Z
LAST-MODIFIED:20240812T113522Z
UID:18376-1732176000-1732208400@www.dev.fi-desk.com
SUMMARY:FIMA - The world’s leading data & analytics event for investment banks and asset managers
DESCRIPTION:Your only opportunity to connect with data & analytics leaders from t1 banks & asset managers \nGeopolitical turmoil\, tightening monetary policy and more assertive regulations are reshaping the foundations of the capital markets industry\, making it even more critical for financial institutions to make precise\, data-driven decisions. \nFind out how to navigate this evolving landscape by joining the world’s leading data & analytics conference for banks and asset managers. Benchmark with industry leaders and gain practical insights on: \n\nAI-ready data that ensures your end-users can take advantage of the latest AI tools\nModernising your technology stack to affordably generate insights that provide your business with Alpha and unique competitive advantage\nSourcing\, integrating and governing higher-quality data that unlocks new insights whilst remaining compliant\nDriving greater transparency from your ESG data to help your business meet sustainability\, reporting and compliance goals\n\nRegistration: https://shorturl.at/JKZ8Z\nAgenda: https://shorturl.at/JXZQC\n*With Tech Innovation Day on 20 November \nNovotel London West\, United Kingdom \nDiscount code for readers of The DESK: FGTJ\n\n 
URL:https://www.dev.fi-desk.com/event/fima-the-worlds-leading-data-analytics-event-for-investment-banks-and-asset-managers/
LOCATION:Novotel London West\, 1 Shortlands Hammersmith International Centre\, London\, W6 8DR\, United Kingdom
ATTACH;FMTTYPE=image/jpeg:https://www.dev.fi-desk.com/wp-content/uploads/2024/08/FIMA-Europe-Logo-2024.jpg
END:VEVENT
END:VCALENDAR