BEGIN:VCALENDAR
VERSION:2.0
PRODID:-//The DESK - The leading source of information for bond traders - ECPv6.10.1.1//NONSGML v1.0//EN
CALSCALE:GREGORIAN
METHOD:PUBLISH
X-ORIGINAL-URL:https://www.dev.fi-desk.com
X-WR-CALDESC:Events for The DESK - The leading source of information for bond traders
REFRESH-INTERVAL;VALUE=DURATION:PT1H
X-Robots-Tag:noindex
X-PUBLISHED-TTL:PT1H
BEGIN:VTIMEZONE
TZID:Europe/London
BEGIN:DAYLIGHT
TZOFFSETFROM:+0000
TZOFFSETTO:+0100
TZNAME:BST
DTSTART:20240331T010000
END:DAYLIGHT
BEGIN:STANDARD
TZOFFSETFROM:+0100
TZOFFSETTO:+0000
TZNAME:GMT
DTSTART:20241027T010000
END:STANDARD
TZID:Australia/Sydney
BEGIN:STANDARD
TZOFFSETFROM:+1100
TZOFFSETTO:+1000
TZNAME:AEST
DTSTART:20240406T160000
END:STANDARD
BEGIN:DAYLIGHT
TZOFFSETFROM:+1000
TZOFFSETTO:+1100
TZNAME:AEDT
DTSTART:20241005T160000
END:DAYLIGHT
TZID:America/New_York
BEGIN:DAYLIGHT
TZOFFSETFROM:-0500
TZOFFSETTO:-0400
TZNAME:EDT
DTSTART:20240310T070000
END:DAYLIGHT
BEGIN:STANDARD
TZOFFSETFROM:-0400
TZOFFSETTO:-0500
TZNAME:EST
DTSTART:20241103T060000
END:STANDARD
TZID:Europe/Paris
BEGIN:DAYLIGHT
TZOFFSETFROM:+0100
TZOFFSETTO:+0200
TZNAME:CEST
DTSTART:20240331T010000
END:DAYLIGHT
BEGIN:STANDARD
TZOFFSETFROM:+0200
TZOFFSETTO:+0100
TZNAME:CET
DTSTART:20241027T010000
END:STANDARD
END:VTIMEZONE
BEGIN:VEVENT
DTSTART;TZID=Europe/London:20241021T080000
DTEND;TZID=Europe/London:20241021T173000
DTSTAMP:20260421T103747
CREATED:20241008T171931Z
LAST-MODIFIED:20241008T172343Z
UID:19267-1729497600-1729531800@www.dev.fi-desk.com
SUMMARY:The Plato Technology Summit
DESCRIPTION:About the Plato Technology Summit\nThe Plato Technology Summit\, crafted by the Plato Partnership — 40 leading buy-side and sell-side firms returns on 21 October 2024 at the Leonardo Hotel St Paul’s in London. This one-day event promises innovative approaches\, setting it apart from typical finance conferences. \nAttendees can expect use-ase presentations from top tech companies\, collaborative problem-solving workshops\, and small-group fintech demonstrations in “FinTech Alley.” A highlight includes a panel by 100 Women in Fintech on “AI – Beyond the Hyperbole\,” alongside a keynote from Rebecca Healey of Redlap Consulting\, unveiling new research on the same topic. \nhttps://bit.ly/3NhiH0b \n \n  \n  \n  \n  \n\n 
URL:https://www.dev.fi-desk.com/event/the-plato-technology-summit/
LOCATION:Leonardo Royal London St Paul’s\, 10 Godliman Street\, London\, London EC4V 5AJ\, United Kingdom
ATTACH;FMTTYPE=image/png:https://www.dev.fi-desk.com/wp-content/uploads/2024/10/Plato-Summit-2024-Main-1000-x-500-px.png
END:VEVENT
BEGIN:VEVENT
DTSTART;TZID=Australia/Sydney:20241017T080000
DTEND;TZID=Australia/Sydney:20241017T170000
DTSTAMP:20260421T103747
CREATED:20240812T112043Z
LAST-MODIFIED:20240812T112043Z
UID:18360-1729152000-1729184400@www.dev.fi-desk.com
SUMMARY:FIX Australia
DESCRIPTION:The Australia FIX Trading Community Conference is a premier one-day event for anyone involved in Australia’s trading scene\, set to be one of the year’s highlights.\nJoin over 300 of your peers for a day packed with engaging discussions on hot topics such as market structure\, AI\, trading strategies\, industry trends\, ETFs\, digital assets\, technology innovations\, and updates from exchanges. Hear from some of the most respected leaders in the field and gain valuable insights into the future of institutional trading. \nDon’t miss the fantastic networking opportunities during our breaks\, lunch\, and exclusive cocktail reception. It’s the perfect chance to connect with top traders and technologists in the industry. \nAccess to these event is complimentary for FIX Trading Community members\, the buy-side\, regulators\, and specially invited guests subject to registration and confirmation. Attendance limits may apply. \nRegister Now!\nFor further information\, please visit: https://www.fix-events.com/australia \nFor sponsorship/exhibition and speaking opportunities: \nsammy.ho@fix-events.com\nFor general enquiries: barbara.law@fix-events.com \n\n 
URL:https://www.dev.fi-desk.com/event/fix-australia/
LOCATION:The Fullerton Hotel Sydney\, 1 Martin Place\, Sydney\, NSW 2000\, Australia
ATTACH;FMTTYPE=image/jpeg:https://www.dev.fi-desk.com/wp-content/uploads/2024/08/FIX-Australia_1200x600.jpg
END:VEVENT
BEGIN:VEVENT
DTSTART;TZID=America/New_York:20241016T080000
DTEND;TZID=America/New_York:20241016T170000
DTSTAMP:20260421T103747
CREATED:20240812T111438Z
LAST-MODIFIED:20240816T111846Z
UID:18352-1729065600-1729098000@www.dev.fi-desk.com
SUMMARY:FIX Americas Trading Conference
DESCRIPTION:Building on the success of the Americas Trading Conferences\, the FIX Trading Community returns to New York with a full-day conference this October!\nHosted at etc.venues 360 Madison Avenue in New York on Wednesday 16th October\, this event will provide a series of presentations and panel discussions across a one-stream agenda filled with an interactive program addressing market needs. The agenda will provide delegates with impartial\, high-quality content and the knowledge and experience of the industry’s leading speakers. \nTopics to be covered include: \n\n\nAI Insights: Revolutionizing Financial Trading\nExplore how Artificial Intelligence (AI) transforms financial trading. Join industry leaders to discuss AI’s impact on algorithms\, risk management\, and execution decisions.\n\n\n\n\nStreamlining Trades: Reviewing T+1 Trade Processing in Financial Markets\nJoin industry experts and regulatory leaders for an insightful panel discussion on the evolution of trade processing in financial markets\, including the transition to T+1 (or even T+0) settlement cycles.\n\n\n\n\nDigital Assets Unveiled: Navigating the Future of Trading\nExplore the dynamic world of digital assets with our expert panel as they unveil the opportunities and challenges in this rapidly evolving space. From cryptocurrencies to tokenized assets\, the discussion will delve into how these digital innovations are reshaping traditional trading landscapes.\n\n\n\n\nElection Economics: Unpacking the Financial Markets’ Response to the US Presidential Election.\nJoin us for a timely panel discussion on the intricate relationship between US presidential elections and financial markets\n\n\n\n\nFIX at 30: Reflecting on Three Decades of Market Transformation\nCelebrate FIX Protocol’s 30-year legacy of revolutionizing global markets. Join industry pioneers and technologists as they trace FIX’s evolution\, its impact on trading\, and where we think the next 30 years will take us.\n\n\n\n\nForging a Path: Women in FIX: Explore the achievements and challenges of women in the FIX community. Join industry leaders as they discuss navigating careers in finance and technology\, promoting diversity\, and driving innovation.\n\n\nFollowed by a cocktail reception celebrating FIX 30 years of electronic trading.\n  \nFind out more: Americas Trading Conference 2024 \n\n 
URL:https://www.dev.fi-desk.com/event/fix-americas-trading-conference/
LOCATION:etc Venues\, 360 Madison Avenue\, New York\, NY 10017\, United States
ATTACH;FMTTYPE=image/jpeg:https://www.dev.fi-desk.com/wp-content/uploads/2024/08/Americas-2024-Global-Trading-The-Desk-1000x500-1.jpg
END:VEVENT
BEGIN:VEVENT
DTSTART;TZID=Europe/London:20241016T080000
DTEND;TZID=Europe/London:20241016T170000
DTSTAMP:20260421T103747
CREATED:20240812T110840Z
LAST-MODIFIED:20240812T110840Z
UID:18348-1729065600-1729098000@www.dev.fi-desk.com
SUMMARY:The AMIC Forum: Mind the Gaps – savings\, investment and financing the real economy
DESCRIPTION:The Asset Management and Investors Council (AMIC) Forum provides an opportunity for investment industry participants to network and share insights and information.\nJoin this half-day conference discussing how UK and Europe’s capital markets are key to mobilising private savings to invest in start-ups and innovation and to create growth. \nThe agenda will combine panel discussions and fireside conversation and will be an opportunity to hear from investment professionals and industry participants from Europe and the UK. \nAdmission: This in-person event is free to attend and open to ICMA members and interested market participants. Register now. \n\n 
URL:https://www.dev.fi-desk.com/event/the-amic-forum-mind-the-gaps-savings-investment-and-financing-the-real-economy/
LOCATION:Schroders\, 1 London Wall Place\, London Wall\, London\, EC2Y 5AU
ATTACH;FMTTYPE=image/jpeg:https://www.dev.fi-desk.com/wp-content/uploads/2024/08/ICMA-Event_16-Oct-2024_1200x550.jpg
END:VEVENT
BEGIN:VEVENT
DTSTART;TZID=Europe/Paris:20241002T080000
DTEND;TZID=Europe/Paris:20241004T170000
DTSTAMP:20260421T103747
CREATED:20240812T110354Z
LAST-MODIFIED:20240812T110354Z
UID:18344-1727856000-1728061200@www.dev.fi-desk.com
SUMMARY:FILS - Fixed Income Leaders Summit 2024
DESCRIPTION:Fixed Income Leaders Summit 2024\n\n\n\nFixed Income Leaders Summit 2024 will take place at CNIT Forest\, right in the heart of the bustling La Défense district in Paris. CNIT Forest offers state of the art conference spaces\, whilst blending contemporary technology with natural surroundings – providing a unique and inspiring working environment for all visitors. This venue massively benefits from La Défense’s public transport hub\, being just a two-minute walk from speedy transport into central Paris! CNIT Forest is sure to capture the imagination and wonder of all visitors\, in turn providing motivation to get the maximum out of their visit to FILS 2024. \n\n\n\n\nWhen & Where…\nBuy-Side Innovation Day: Wednesday 2nd October 2024\nMain Conference: Thursday 3rd – Friday 4th October 2024 \n \n\n 
URL:https://www.dev.fi-desk.com/event/fils-fixed-income-leaders-summit-2024/
LOCATION:CNIT Forest\, 2 Place de la Défense\, Paris\, F-92092 Puteaux\, France
ATTACH;FMTTYPE=image/png:https://www.dev.fi-desk.com/wp-content/uploads/2024/08/FILS-EU-10th-Anniversary_BoW.png
END:VEVENT
BEGIN:VEVENT
DTSTART;TZID=Europe/London:20241002T080000
DTEND;TZID=Europe/London:20241003T170000
DTSTAMP:20260421T103747
CREATED:20240812T160908Z
LAST-MODIFIED:20240812T160908Z
UID:18392-1727856000-1727974800@www.dev.fi-desk.com
SUMMARY:AFME - OPTIC 2024 (Operations\, Post-Trade\, Technology & Innovation Conference)
DESCRIPTION:OPTIC\, now in its third year\, is returning to the UK for 2024! AFME’s annual Operations\, Post-Trade\, Technology & Innovation conference brings together the industry’s leading voices\, to discuss the role of technology in developing capital markets in Europe\, with particular focus on the world of operations and post trade.\nOPTIC 2024 will take place in London\, with a two-day agenda packed with keynote addresses from regulatory authorities\, thought-provoking panels and speeches from Europe’s leading financial institutions\, and ample networking opportunities for attendees.  \nDelegates will hear from practitioners\, technologists\, and policymakers on the most important innovations happening here and now\, and what the future landscape might look like. Our expert speakers will discuss the opportunities and challenges that are unique to Europe\, and contemplate whether the capital markets ecosystem\, and its underpinning regulatory framework\, is well-positioned to support innovation. \nThis event is attended by senior capital market professionals working in operations\, post-trade\, technology\, regulation\, and policy.  \nRegular Registration fees:\n• AFME member: £819 + VAT\n• Non member: £1119 + VAT \nMulti-booking discount:\n• 10% off when booking 3 or more delegates at the same time\n• 20% off when booking 5 or more delegates at the same time \nMulti booking discounts can be applied at check out for group booking. \nComplimentary subject to verification:\n• Regulator: promo code REGULATOR\n• Press: promo code PRESS for in person attendance or VIRTUALPRESS to receive a live stream link (this link is only available to press) \nNote: Promo codes are case sensitive. \nTo discuss sponsorship opportunities\, please contact Cheryl Chickowski at cheryl.chickowski@afme.eu or on +44 (0)7824 874 391. \n\n 
URL:https://www.dev.fi-desk.com/event/afme-optic-2024-operations-post-trade-technology-innovation-conference/
LOCATION:Convene at 22 Bishopsgate\, 22 Bishopsgate\, London\, EC2N 4BQ\, United Kingdom
ATTACH;FMTTYPE=image/jpeg:https://www.dev.fi-desk.com/wp-content/uploads/2024/08/AFME-OPTIC-2024_1200x500.jpg
END:VEVENT
BEGIN:VEVENT
DTSTART;TZID=Europe/London:20240923T080000
DTEND;TZID=Europe/London:20240925T170000
DTSTAMP:20260421T103747
CREATED:20240812T104904Z
LAST-MODIFIED:20240812T105155Z
UID:18336-1727078400-1727283600@www.dev.fi-desk.com
SUMMARY:InvestOps - The world’s leading investment operations conference
DESCRIPTION:Your only opportunity to connect with leading buy-side COOs and heads of investment operations\nReduced settlement cycles\, evolving regulatory regimes and rising trading volumes for complex investment products are creating a lengthy ‘To Do’ list for Post Trade teams. \nFind out how to navigate and thrive in this ever-changing landscape by joining the leading Buy Side Operations conference. Benchmark with COOs and Heads of Investment Operations from leading Asset Managers\, Pension Funds and Hedgefunds to gain practical insights on: \n\nPreparing your operations function for the transition to T+1 settlement cycles and impact on European markets\nImplementing the latest data\, automation and AI trends to optimise operating processes and boost performance\nLaunching new post trade processes to service an increasingly diverse and complex investment product range\nConnecting\, standardising and democratising data sources to streamline front-to-back workflows and boost productivity\n\n\n\n\nRegistration: https://shorturl.at/14OT4\nAgenda: https://shorturl.at/05jDY\nFor readers of Global Trading – discount Code: IEUGTJ\n\n\n\n\n\n\n \n\n\n\n\n\n 
URL:https://www.dev.fi-desk.com/event/investops-the-worlds-leading-investment-operations-conference/
LOCATION:The KIA Oval\, Kennington Oval\, London\, SE11 5SS
ATTACH;FMTTYPE=image/png:https://www.dev.fi-desk.com/wp-content/uploads/2018/06/InvestOps-logo.png
END:VEVENT
BEGIN:VEVENT
DTSTART;TZID=Europe/London:20240918T080000
DTEND;TZID=Europe/London:20240918T170000
DTSTAMP:20260421T103747
CREATED:20240812T102120Z
LAST-MODIFIED:20240812T102120Z
UID:18328-1726646400-1726678800@www.dev.fi-desk.com
SUMMARY:ICMA FinTech & Digitalisation Forum
DESCRIPTION:Join the most innovative thinkers in the industry at this exciting full day conference\, the 2024 ICMA FinTech and Digitalisation Forum\, which will be held in London on Wednesday 18 September.\nThe automation and digitalisation of the industry is one of the most important topics being discussed by our global membership and the wider market. The evolution of the digital bond ecosystem\, the emergence of AI as a potentially disruptive force\, and the criticality of models and standards will all be debated. \nThe agenda will combine keynote speeches and panel discussions with leading market figures and experts working in the FinTech and digitalisation space\, from the buy and sell side\, market infrastructure providers along with software and data vendors. We will also hear from SSA issuers and regulators from different regions active in the topic. \nAdmission: \nMembers of ICMA; Representatives from the public sector – Free\nNon-Members – GBP 350.00\nICMA welcomes participation from the press at its events. Registration and attendance is free of charge for journalists. \nRegister now \n\n 
URL:https://www.dev.fi-desk.com/event/icma-fintech-digitalisation-forum/
LOCATION:Congress Centre\, 28 Great Russell Street\, London\, WC1B 3LS\, United Kingdom
ATTACH;FMTTYPE=image/jpeg:https://www.dev.fi-desk.com/wp-content/uploads/2024/08/ICMA-Event_18-Sep-2024_1200x550.jpg
END:VEVENT
BEGIN:VEVENT
DTSTART;TZID=Europe/London:20240916T080000
DTEND;TZID=Europe/London:20240918T170000
DTSTAMP:20260421T103747
CREATED:20240812T100726Z
LAST-MODIFIED:20240812T114613Z
UID:18314-1726473600-1726678800@www.dev.fi-desk.com
SUMMARY:TradeTech FX 2024
DESCRIPTION:The largest gathering of Buy Side FX leaders\nTradeTech FX returns to Amsterdam this September taking place at both the Mövenpick Hotel Amsterdam City Centre and ijVENUES! TradeTech FX has firmly established itself as the leading FX trading event in Europe\, with over 800 FX professionals in attendance including representation from all the major buy side\, sell side and technology partners. \nCheck out the agenda to discover the full event schedule\, the impressive buy side speaker line-up\, the diverse range of interactive learning formats\, and all the networking opportunities and exclusive drinks receptions happening during the event.\n\nWhat you can expect from TradeTech FX 2024: \n\nJoin 800+ leaders in FX including 300+ Heads of FX Trading and Portfolio Management from Europe’s biggest buy side firms.\nKeep up with the latest and greatest FX eTrading initiatives to ensure you’re working with the most reliable technology partners.\nNetwork with your senior FX peers during our highly interactive sessions\, exclusive drinks receptions and extended networking breaks.\nDon’t miss the ‘Buy Side TradeTech FX Innovation Day’ (16 Sep) for an unbeatable time-saving opportunity to meet and compare the leading FX platforms and solution providers.\n\nWe have an exclusive 10% discount for tickets to TradeTech FX. Simply quote TTFXBE10 when booking tickets online. \nBuy side can register for free. This includes pension funds\, sovereign wealth funds\, insurance companies\, asset managers\, wealth managers\, hedge funds and corporates. \nYou can save 10% by quoting TTFXBE10 when registering online now. Buy side can register for free. \nTo book your tickets\, please click here.\nAgenda\nPricing\nDiscount code: TTFXBE10 \n#TradeTechFXEU #Trading #FX #Forex #networking \n\n 
URL:https://www.dev.fi-desk.com/event/tradetech-fx-2024/
LOCATION:Mövenpick Hotel Amsterdam\, Piet Heinkade 11\, Amsterdam\, 1019 BR\, Netherlands
ATTACH;FMTTYPE=image/jpeg:https://www.dev.fi-desk.com/wp-content/uploads/2024/08/TTFX-EU-24-1068-x-360-px.jpg
END:VEVENT
END:VCALENDAR